BEGIN:VCALENDAR
VERSION:2.0
PRODID:-//Condé-sur-Vesgre - ECPv6.15.13//NONSGML v1.0//EN
CALSCALE:GREGORIAN
METHOD:PUBLISH
X-WR-CALNAME:Condé-sur-Vesgre
X-ORIGINAL-URL:https://www.mairie-condesurvesgre.fr
X-WR-CALDESC:Évènements pour Condé-sur-Vesgre
REFRESH-INTERVAL;VALUE=DURATION:PT1H
X-Robots-Tag:noindex
X-PUBLISHED-TTL:PT1H
BEGIN:VTIMEZONE
TZID:Europe/Paris
BEGIN:DAYLIGHT
TZOFFSETFROM:+0100
TZOFFSETTO:+0200
TZNAME:CEST
DTSTART:20230326T010000
END:DAYLIGHT
BEGIN:STANDARD
TZOFFSETFROM:+0200
TZOFFSETTO:+0100
TZNAME:CET
DTSTART:20231029T010000
END:STANDARD
BEGIN:DAYLIGHT
TZOFFSETFROM:+0100
TZOFFSETTO:+0200
TZNAME:CEST
DTSTART:20240331T010000
END:DAYLIGHT
BEGIN:STANDARD
TZOFFSETFROM:+0200
TZOFFSETTO:+0100
TZNAME:CET
DTSTART:20241027T010000
END:STANDARD
BEGIN:DAYLIGHT
TZOFFSETFROM:+0100
TZOFFSETTO:+0200
TZNAME:CEST
DTSTART:20250330T010000
END:DAYLIGHT
BEGIN:STANDARD
TZOFFSETFROM:+0200
TZOFFSETTO:+0100
TZNAME:CET
DTSTART:20251026T010000
END:STANDARD
END:VTIMEZONE
BEGIN:VEVENT
DTSTART;TZID=Europe/Paris:20241005T140000
DTEND;TZID=Europe/Paris:20241005T170000
DTSTAMP:20260423T071404
CREATED:20240927T095616Z
LAST-MODIFIED:20240927T095616Z
UID:3561-1728136800-1728147600@www.mairie-condesurvesgre.fr
SUMMARY:Bourse d'échange de plante
DESCRIPTION:Samedi 5 octobre\, de 14 h à 17 h bourse d’échange de plantes sous le préau de l’ancienne école\, 37 rue de la Vesgre.\nTables et bancs à disposition des participants.\nGratuit et ouvert à tous\, les jardiniers débutants sont aussi les bienvenus !
URL:https://www.mairie-condesurvesgre.fr/evenement/bourse-dechange-de-plante/
LOCATION:Ancienne école\, 37 rue de la Vesgre\, Condé Sur Vesgre\, 78113
CATEGORIES:Bourse Echange
ATTACH;FMTTYPE=image/jpeg:https://www.mairie-condesurvesgre.fr:443/content/uploads/tribe_events/461421206_1297450334752440_5050203436806554841_n.jpg
ORGANIZER;CN="Mairie":MAILTO:mairie-condesurvesgre@wanadoo.fr
END:VEVENT
END:VCALENDAR