BEGIN:VCALENDAR
VERSION:2.0
PRODID:-//Condé-sur-Vesgre - ECPv6.15.13//NONSGML v1.0//EN
CALSCALE:GREGORIAN
METHOD:PUBLISH
X-ORIGINAL-URL:https://www.mairie-condesurvesgre.fr
X-WR-CALDESC:Évènements pour Condé-sur-Vesgre
REFRESH-INTERVAL;VALUE=DURATION:PT1H
X-Robots-Tag:noindex
X-PUBLISHED-TTL:PT1H
BEGIN:VTIMEZONE
TZID:Europe/Paris
BEGIN:DAYLIGHT
TZOFFSETFROM:+0100
TZOFFSETTO:+0200
TZNAME:CEST
DTSTART:20240331T010000
END:DAYLIGHT
BEGIN:STANDARD
TZOFFSETFROM:+0200
TZOFFSETTO:+0100
TZNAME:CET
DTSTART:20241027T010000
END:STANDARD
BEGIN:DAYLIGHT
TZOFFSETFROM:+0100
TZOFFSETTO:+0200
TZNAME:CEST
DTSTART:20250330T010000
END:DAYLIGHT
BEGIN:STANDARD
TZOFFSETFROM:+0200
TZOFFSETTO:+0100
TZNAME:CET
DTSTART:20251026T010000
END:STANDARD
BEGIN:DAYLIGHT
TZOFFSETFROM:+0100
TZOFFSETTO:+0200
TZNAME:CEST
DTSTART:20260329T010000
END:DAYLIGHT
BEGIN:STANDARD
TZOFFSETFROM:+0200
TZOFFSETTO:+0100
TZNAME:CET
DTSTART:20261025T010000
END:STANDARD
END:VTIMEZONE
BEGIN:VEVENT
DTSTART;TZID=Europe/Paris:20250508T103000
DTEND;TZID=Europe/Paris:20250508T103000
DTSTAMP:20260422T140708
CREATED:20250429T140446Z
LAST-MODIFIED:20250429T140525Z
UID:3977-1746700200-1746700200@www.mairie-condesurvesgre.fr
SUMMARY:Commémoration du 8 mai 1945
DESCRIPTION:
URL:https://www.mairie-condesurvesgre.fr/evenement/commemoration-du-8-mai-1945/
LOCATION:Mairie\, 37 Rue de la Vesgre\,\, CONDE SUR VESGRE\, Ile de France\, 78113\, France
CATEGORIES:Commemoration
ATTACH;FMTTYPE=image/png:https://www.mairie-condesurvesgre.fr:443/content/uploads/tribe_events/Ecusson-Conde.png
ORGANIZER;CN="Mairie":MAILTO:mairie-condesurvesgre@wanadoo.fr
END:VEVENT
END:VCALENDAR