BEGIN:VCALENDAR
VERSION:2.0
PRODID:-//Condé-sur-Vesgre - ECPv6.15.13//NONSGML v1.0//EN
CALSCALE:GREGORIAN
METHOD:PUBLISH
X-ORIGINAL-URL:https://www.mairie-condesurvesgre.fr
X-WR-CALDESC:Évènements pour Condé-sur-Vesgre
REFRESH-INTERVAL;VALUE=DURATION:PT1H
X-Robots-Tag:noindex
X-PUBLISHED-TTL:PT1H
BEGIN:VTIMEZONE
TZID:Europe/Paris
BEGIN:DAYLIGHT
TZOFFSETFROM:+0100
TZOFFSETTO:+0200
TZNAME:CEST
DTSTART:20240331T010000
END:DAYLIGHT
BEGIN:STANDARD
TZOFFSETFROM:+0200
TZOFFSETTO:+0100
TZNAME:CET
DTSTART:20241027T010000
END:STANDARD
BEGIN:DAYLIGHT
TZOFFSETFROM:+0100
TZOFFSETTO:+0200
TZNAME:CEST
DTSTART:20250330T010000
END:DAYLIGHT
BEGIN:STANDARD
TZOFFSETFROM:+0200
TZOFFSETTO:+0100
TZNAME:CET
DTSTART:20251026T010000
END:STANDARD
BEGIN:DAYLIGHT
TZOFFSETFROM:+0100
TZOFFSETTO:+0200
TZNAME:CEST
DTSTART:20260329T010000
END:DAYLIGHT
BEGIN:STANDARD
TZOFFSETFROM:+0200
TZOFFSETTO:+0100
TZNAME:CET
DTSTART:20261025T010000
END:STANDARD
END:VTIMEZONE
BEGIN:VEVENT
DTSTART;TZID=Europe/Paris:20250402T100000
DTEND;TZID=Europe/Paris:20250402T173000
DTSTAMP:20260422T214410
CREATED:20250314T104104Z
LAST-MODIFIED:20250314T104138Z
UID:3866-1743588000-1743615000@www.mairie-condesurvesgre.fr
SUMMARY:1er Journée Portes Ouvertes de la Direction Départementale des Finances Publiques des Yvelines
DESCRIPTION:Nous avons le plaisir de vous annoncer l’organisation de la première Journée Portes Ouvertes de la Direction Départementale des Finances Publiques des Yvelines (DDFiP 78).\nCet évènement se déroulera le mercredi 2 avril 2025 de 10h à 17h30\, au 16 avenue de St Cloud\, à Versailles. \nCe rendez-vous unique est une excellente occasion pour les étudiants ou chercheurs d’emploi\, de découvrir les nombreux métiers et opportunités professionnelles au sein de la Direction Départementale des Finances Publiques et d’échanger directement avec les agents qui la font vivre au quotidien. \nUn programme diversifié\, comprenant des ateliers autour des métiers et des conférences en lien avec des sujets d’actualités (numérique\, IA\, écoresponsabilité\, juridique…).\nVous retrouverez le programme prévisionnel des conférences et des stands en pièce jointe. \nDe plus\, un stand photo sera mis à disposition des visiteurs pour qu’ils puissent réaliser des portraits professionnels pour leur CV. \nInscription obligatoire via le QR Code sur l’affiche ci-dessous ou en suivant le lien :\nhttps://www.eventbrite.com/e/journee-portes-ouvertes-finances-publiques-des-yvelines-tickets-1244839310889?aff=oddtdtcreator
URL:https://www.mairie-condesurvesgre.fr/evenement/3866/
LOCATION:16 avenue de St Cloud\, 16 avenue de St Cloud\, Versailles\, 78000
CATEGORIES:Information
ATTACH;FMTTYPE=image/png:https://www.mairie-condesurvesgre.fr:443/content/uploads/tribe_events/Affiche-JPO.png
END:VEVENT
BEGIN:VEVENT
DTSTART;TZID=Europe/Paris:20250430T133000
DTEND;TZID=Europe/Paris:20250430T163000
DTSTAMP:20260422T214410
CREATED:20250401T084923Z
LAST-MODIFIED:20250401T084923Z
UID:3946-1746019800-1746030600@www.mairie-condesurvesgre.fr
SUMMARY:Job Dating : Mettez toutes vos les chances de votre côté !
DESCRIPTION:Vous êtes à la recherche d’un emploi\, d’un stage ou même d’un job d’été . Ce Job Dating est fait pour vous ! \nLa CC Pays Houdanais\, en collaboration avec France Travail et la Mission Locale de Rambouillet\, vous invite à participer à une demi-journée Job Dating. Cet évènement est une occasion idéale pour entrer en contact direct avec des entreprises locales et peut-être trouver le job de vos rêves . \nQu’est-ce qu’un Job Dating ?\nIl s’agit de brefs entretiens de 15 minutes maximum permettant de rencontrer plusieurs recruteurs dans un format convivial et dynamique. Ces rencontres offrent l’occasion de poser des questions\, de présenter vos motivations et de vous distinguer. \n » Et si cela débouchait en plus sur un entretien et même un contrat !  » \nQuand et où ça se passe  ?\nLe mercredi 30 avril de 13h30 à 16h30\nÀ la salle des fêtes Piaf\, Richebourg \nUne question ?\nRenseignement au 01 86 90 98 28 \nNe manquez pas cette occasion unique de rencontrer des entreprises locales et de mettre toutes les chances de votre côté dans votre recherche d’emploi !
URL:https://www.mairie-condesurvesgre.fr/evenement/job-dating-mettez-toutes-vos-les-chances-de-votre-cote/
LOCATION:Salle des fêtes Edith Piaf – Richebourg\, 3 route de Bazainville\, Richebourg\, 78550
CATEGORIES:Information
ATTACH;FMTTYPE=image/jpeg:https://www.mairie-condesurvesgre.fr:443/content/uploads/tribe_events/Job-Dating-avril-2025.jpg
END:VEVENT
END:VCALENDAR