BEGIN:VCALENDAR
VERSION:2.0
PRODID:-//Condé-sur-Vesgre - ECPv6.15.13//NONSGML v1.0//EN
CALSCALE:GREGORIAN
METHOD:PUBLISH
X-WR-CALNAME:Condé-sur-Vesgre
X-ORIGINAL-URL:https://www.mairie-condesurvesgre.fr
X-WR-CALDESC:Évènements pour Condé-sur-Vesgre
REFRESH-INTERVAL;VALUE=DURATION:PT1H
X-Robots-Tag:noindex
X-PUBLISHED-TTL:PT1H
BEGIN:VTIMEZONE
TZID:Europe/Paris
BEGIN:DAYLIGHT
TZOFFSETFROM:+0100
TZOFFSETTO:+0200
TZNAME:CEST
DTSTART:20240331T010000
END:DAYLIGHT
BEGIN:STANDARD
TZOFFSETFROM:+0200
TZOFFSETTO:+0100
TZNAME:CET
DTSTART:20241027T010000
END:STANDARD
BEGIN:DAYLIGHT
TZOFFSETFROM:+0100
TZOFFSETTO:+0200
TZNAME:CEST
DTSTART:20250330T010000
END:DAYLIGHT
BEGIN:STANDARD
TZOFFSETFROM:+0200
TZOFFSETTO:+0100
TZNAME:CET
DTSTART:20251026T010000
END:STANDARD
BEGIN:DAYLIGHT
TZOFFSETFROM:+0100
TZOFFSETTO:+0200
TZNAME:CEST
DTSTART:20260329T010000
END:DAYLIGHT
BEGIN:STANDARD
TZOFFSETFROM:+0200
TZOFFSETTO:+0100
TZNAME:CET
DTSTART:20261025T010000
END:STANDARD
END:VTIMEZONE
BEGIN:VEVENT
DTSTART;TZID=Europe/Paris:20250906T140000
DTEND;TZID=Europe/Paris:20250906T180000
DTSTAMP:20260422T113117
CREATED:20250904T140545Z
LAST-MODIFIED:20250904T140617Z
UID:4052-1757167200-1757181600@www.mairie-condesurvesgre.fr
SUMMARY:Forum des associations
DESCRIPTION:Ce samedi 06 septembre 2025\, de 14h00 à 18h00\, aura lieu le Forum des Associations à Condé sur Vesgre ! \nNous vous invitons à venir nombreux pour découvrir les associations qui animeront notre commune pour l’année à venir.
URL:https://www.mairie-condesurvesgre.fr/evenement/forum-des-associations-2/
LOCATION:Salle ABC\, 3 rue des Brières\, CONDE SUR VESGRE\, Ile de France\, 78113\, France
CATEGORIES:Information
END:VEVENT
END:VCALENDAR