BEGIN:VCALENDAR
VERSION:2.0
PRODID:-//Condé-sur-Vesgre - ECPv6.15.13//NONSGML v1.0//EN
CALSCALE:GREGORIAN
METHOD:PUBLISH
X-ORIGINAL-URL:https://www.mairie-condesurvesgre.fr
X-WR-CALDESC:Évènements pour Condé-sur-Vesgre
REFRESH-INTERVAL;VALUE=DURATION:PT1H
X-Robots-Tag:noindex
X-PUBLISHED-TTL:PT1H
BEGIN:VTIMEZONE
TZID:Europe/Paris
BEGIN:DAYLIGHT
TZOFFSETFROM:+0100
TZOFFSETTO:+0200
TZNAME:CEST
DTSTART:20250330T010000
END:DAYLIGHT
BEGIN:STANDARD
TZOFFSETFROM:+0200
TZOFFSETTO:+0100
TZNAME:CET
DTSTART:20251026T010000
END:STANDARD
BEGIN:DAYLIGHT
TZOFFSETFROM:+0100
TZOFFSETTO:+0200
TZNAME:CEST
DTSTART:20260329T010000
END:DAYLIGHT
BEGIN:STANDARD
TZOFFSETFROM:+0200
TZOFFSETTO:+0100
TZNAME:CET
DTSTART:20261025T010000
END:STANDARD
BEGIN:DAYLIGHT
TZOFFSETFROM:+0100
TZOFFSETTO:+0200
TZNAME:CEST
DTSTART:20270328T010000
END:DAYLIGHT
BEGIN:STANDARD
TZOFFSETFROM:+0200
TZOFFSETTO:+0100
TZNAME:CET
DTSTART:20271031T010000
END:STANDARD
END:VTIMEZONE
BEGIN:VEVENT
DTSTART;TZID=Europe/Paris:20260214T160000
DTEND;TZID=Europe/Paris:20260214T160000
DTSTAMP:20260422T015147
CREATED:20260203T102311Z
LAST-MODIFIED:20260203T102553Z
UID:4220-1771084800-1771084800@www.mairie-condesurvesgre.fr
SUMMARY:AME - "La face cachée de l'e-commerce"
DESCRIPTION:
URL:https://www.mairie-condesurvesgre.fr/evenement/ame-la-face-cachee-de-le-commerce/
LOCATION:Salle ABC\, 3 rue des Brières\, CONDE SUR VESGRE\, Ile de France\, 78113\, France
CATEGORIES:Information
ATTACH;FMTTYPE=image/png:https://www.mairie-condesurvesgre.fr:443/content/uploads/tribe_events/026-e-commerce.png
END:VEVENT
END:VCALENDAR