BEGIN:VCALENDAR
VERSION:2.0
PRODID:-//Condé-sur-Vesgre - ECPv6.15.13//NONSGML v1.0//EN
CALSCALE:GREGORIAN
METHOD:PUBLISH
X-ORIGINAL-URL:https://www.mairie-condesurvesgre.fr
X-WR-CALDESC:Évènements pour Condé-sur-Vesgre
REFRESH-INTERVAL;VALUE=DURATION:PT1H
X-Robots-Tag:noindex
X-PUBLISHED-TTL:PT1H
BEGIN:VTIMEZONE
TZID:Europe/Paris
BEGIN:DAYLIGHT
TZOFFSETFROM:+0100
TZOFFSETTO:+0200
TZNAME:CEST
DTSTART:20240331T010000
END:DAYLIGHT
BEGIN:STANDARD
TZOFFSETFROM:+0200
TZOFFSETTO:+0100
TZNAME:CET
DTSTART:20241027T010000
END:STANDARD
BEGIN:DAYLIGHT
TZOFFSETFROM:+0100
TZOFFSETTO:+0200
TZNAME:CEST
DTSTART:20250330T010000
END:DAYLIGHT
BEGIN:STANDARD
TZOFFSETFROM:+0200
TZOFFSETTO:+0100
TZNAME:CET
DTSTART:20251026T010000
END:STANDARD
BEGIN:DAYLIGHT
TZOFFSETFROM:+0100
TZOFFSETTO:+0200
TZNAME:CEST
DTSTART:20260329T010000
END:DAYLIGHT
BEGIN:STANDARD
TZOFFSETFROM:+0200
TZOFFSETTO:+0100
TZNAME:CET
DTSTART:20261025T010000
END:STANDARD
END:VTIMEZONE
BEGIN:VEVENT
DTSTART;TZID=Europe/Paris:20250208T100000
DTEND;TZID=Europe/Paris:20250208T153000
DTSTAMP:20260424T183123
CREATED:20241129T102813Z
LAST-MODIFIED:20241129T102813Z
UID:3653-1739008800-1739028600@www.mairie-condesurvesgre.fr
SUMMARY:Forum de l'apprentissage et de l'emploi
DESCRIPTION:
URL:https://www.mairie-condesurvesgre.fr/evenement/forum-de-lapprentissage-et-de-lemploi/
LOCATION:Gymnase de Houdan\, Rue du Clos de l'Écu\, Houdan\, 78550
CATEGORIES:Information
ATTACH;FMTTYPE=image/jpeg:https://www.mairie-condesurvesgre.fr:443/content/uploads/tribe_events/Affiche_Forum-de-lemploi-et-lapprentissage.jpg
END:VEVENT
END:VCALENDAR