BEGIN:VCALENDAR
VERSION:2.0
PRODID:-//Condé-sur-Vesgre - ECPv6.15.13//NONSGML v1.0//EN
CALSCALE:GREGORIAN
METHOD:PUBLISH
X-WR-CALNAME:Condé-sur-Vesgre
X-ORIGINAL-URL:https://www.mairie-condesurvesgre.fr
X-WR-CALDESC:Évènements pour Condé-sur-Vesgre
REFRESH-INTERVAL;VALUE=DURATION:PT1H
X-Robots-Tag:noindex
X-PUBLISHED-TTL:PT1H
BEGIN:VTIMEZONE
TZID:Europe/Paris
BEGIN:DAYLIGHT
TZOFFSETFROM:+0100
TZOFFSETTO:+0200
TZNAME:CEST
DTSTART:20240331T010000
END:DAYLIGHT
BEGIN:STANDARD
TZOFFSETFROM:+0200
TZOFFSETTO:+0100
TZNAME:CET
DTSTART:20241027T010000
END:STANDARD
BEGIN:DAYLIGHT
TZOFFSETFROM:+0100
TZOFFSETTO:+0200
TZNAME:CEST
DTSTART:20250330T010000
END:DAYLIGHT
BEGIN:STANDARD
TZOFFSETFROM:+0200
TZOFFSETTO:+0100
TZNAME:CET
DTSTART:20251026T010000
END:STANDARD
BEGIN:DAYLIGHT
TZOFFSETFROM:+0100
TZOFFSETTO:+0200
TZNAME:CEST
DTSTART:20260329T010000
END:DAYLIGHT
BEGIN:STANDARD
TZOFFSETFROM:+0200
TZOFFSETTO:+0100
TZNAME:CET
DTSTART:20261025T010000
END:STANDARD
END:VTIMEZONE
BEGIN:VEVENT
DTSTART;TZID=Europe/Paris:20250326T100000
DTEND;TZID=Europe/Paris:20250326T160000
DTSTAMP:20260423T012319
CREATED:20250320T095507Z
LAST-MODIFIED:20250320T095507Z
UID:3877-1742983200-1743004800@www.mairie-condesurvesgre.fr
SUMMARY:Salon JOB WIN 2025
DESCRIPTION:Le salon JOB WIN\, salon de l’emploi local organisé par l’association intercommunal GeM Emploi\, aura lieu cette année le 26 mars 2025 à Maule.\n40 entreprises de notre territoire\, en recherche de profils et de talents pour leurs activités\, seront présentes toute la journée de 10h à 12h30\, puis de 14h à 16h. \n \n 
URL:https://www.mairie-condesurvesgre.fr/evenement/salon-job-win-2025/
LOCATION:Salle des fêtes de Maule\, Place Henri Dunant\, Maule
CATEGORIES:Information
ATTACH;FMTTYPE=image/jpeg:https://www.mairie-condesurvesgre.fr:443/content/uploads/tribe_events/Job_win_2025-V5.jpg
END:VEVENT
END:VCALENDAR